BEGIN:VCALENDAR
VERSION:2.0
PRODID:-//hacksw/handcal//NONSGML v1.0//EN
CALSCALE:GREGORIAN
BEGIN:VEVENT
DTEND:20230122T013000Z
UID: 69e679ee028ab
DTSTAMP:20260420T140934Z
LOCATION:Brunner Theatre Center
DESCRIPTION:Written and performed by transgender artist Rebecca McGlynn (co-writer and producer of "Top of the Fringe" winner "My Big Fat Blonde Musical")\, this is an autobiographical musical comedy about Rebecca's pre-transition life.&nbsp\;\n
URL;VALUE=URI:https://augustana.edu/about-us/events/2023/asexuality-solo-musical
SUMMARY:Asexuality! The Solo Musical
DTSTART:20230122T013000Z
END:VEVENT
END:VCALENDAR
