BEGIN:VCALENDAR
VERSION:2.0
PRODID:-//hacksw/handcal//NONSGML v1.0//EN
CALSCALE:GREGORIAN
BEGIN:VEVENT
DTEND:20230216T023000Z
UID: 69e6796539ad9
DTSTAMP:20260420T140717Z
LOCATION:Olin Center for Educational Technology
DESCRIPTION:The&nbsp\;Student Life Programming Board will show the&nbsp\;2008 musical romantic comedy "Mamma Mia!"\n\nThe movie is the story of a bride-to-be trying to find her real father told using hit songs by the popular 1970s group ABBA. (IMDB)\n\nThe film also will be shown at 7 p.m. Friday and Saturday.\n
URL;VALUE=URI:https://augustana.edu/about-us/events/2023/film-mamma-mia
SUMMARY:Film: 'Mamma Mia'
DTSTART:20230216T023000Z
END:VEVENT
END:VCALENDAR
