BEGIN:VCALENDAR
VERSION:2.0
PRODID:-//hacksw/handcal//NONSGML v1.0//EN
CALSCALE:GREGORIAN
BEGIN:VEVENT
DTEND:20230314T220000Z
UID: 69e800173ded5
DTSTAMP:20260421T175415Z
LOCATION:Hanson Hall of Science
DESCRIPTION:Students can learn about applying their academic training in the professional field. The Pre-Health Club will be holding an informational session for students interested in the Costa Rica STEM internship program. Everyone is welcome. View flyer.\n
URL;VALUE=URI:https://augustana.edu/about-us/events/2023/stem-study-abroad-info-session
SUMMARY:STEM study abroad info session
DTSTART:20230314T220000Z
END:VEVENT
END:VCALENDAR
