BEGIN:VCALENDAR
VERSION:2.0
PRODID:-//hacksw/handcal//NONSGML v1.0//EN
CALSCALE:GREGORIAN
BEGIN:VEVENT
DTEND:20230506T140000Z
UID: 69e675559ba58
DTSTAMP:20260420T134957Z
LOCATION:Freight House
DESCRIPTION:Join the Augustana Sierra Club at the Fright House Farmers' Market for an Earth Fair.\n
URL;VALUE=URI:https://augustana.edu/about-us/events/2023/earth-fair
SUMMARY:Earth Fair
DTSTART:20230506T140000Z
END:VEVENT
END:VCALENDAR
