BEGIN:VCALENDAR
VERSION:2.0
PRODID:-//hacksw/handcal//NONSGML v1.0//EN
CALSCALE:GREGORIAN
BEGIN:VEVENT
DTEND:20230513T210000Z
UID: 69eb1e6a48155
DTSTAMP:20260424T024026Z
LOCATION:Denkmann Memorial Building
DESCRIPTION:Senior Jessa Simon\, a theatre major from New Lenox\, Ill.\, will perform a voice recital.\n
URL;VALUE=URI:https://augustana.edu/about-us/events/2023/student-recital-jessa-simon-voice
SUMMARY:Student recital: Jessa Simon\, voice
DTSTART:20230513T210000Z
END:VEVENT
END:VCALENDAR
