BEGIN:VCALENDAR
VERSION:2.0
PRODID:-//hacksw/handcal//NONSGML v1.0//EN
CALSCALE:GREGORIAN
BEGIN:VEVENT
DTEND:20230803T230000Z
UID: 69e7ad3a26930
DTSTAMP:20260421T120042Z
LOCATION:
DESCRIPTION:Join fellow Vikings in Washington\, D.C. for a complimentary alumni and friends gathering. The event is hosted by Collis Jones '88.\n
URL;VALUE=URI:https://augustana.edu/about-us/events/2023/alumni-and-friends-gathering-washington-dc
SUMMARY:Alumni and friends gathering in Washington\, D.C.
DTSTART:20230803T230000Z
END:VEVENT
END:VCALENDAR
