BEGIN:VCALENDAR
VERSION:2.0
PRODID:-//hacksw/handcal//NONSGML v1.0//EN
CALSCALE:GREGORIAN
BEGIN:VEVENT
DTEND:20231019T000000Z
UID: 69e7be1e294bd
DTSTAMP:20260421T131246Z
LOCATION:Thorson-Lucken Field
DESCRIPTION:The Augustana Vikings women's soccer team will play&nbsp\;Wheaton College.\n\nOther home games this season:\n\nOct. 21: 1:00 p.m. vs. Carroll\n\n&nbsp\;\n
URL;VALUE=URI:https://augustana.edu/about-us/events/2023/womens-soccer-vs-wheaton-college
SUMMARY:Women's soccer vs. Wheaton College
DTSTART:20231019T000000Z
END:VEVENT
END:VCALENDAR
