BEGIN:VCALENDAR
VERSION:2.0
PRODID:-//hacksw/handcal//NONSGML v1.0//EN
CALSCALE:GREGORIAN
BEGIN:VEVENT
DTEND:20231119T193000Z
UID: 69e6a545aaa40
DTSTAMP:20260420T171429Z
LOCATION:Brunner Theatre Center
DESCRIPTION:A performance of "Nine\," directed by Shelley Cooper.\n
URL;VALUE=URI:https://augustana.edu/about-us/events/2023/nine-sun
SUMMARY:'Nine'
DTSTART:20231119T193000Z
END:VEVENT
END:VCALENDAR
