BEGIN:VCALENDAR
VERSION:2.0
PRODID:-//hacksw/handcal//NONSGML v1.0//EN
CALSCALE:GREGORIAN
BEGIN:VEVENT
DTEND:20230812T220000Z
UID: 69ebf59e71fc3
DTSTAMP:20260424T175838Z
LOCATION:The Gerber Center for Student Life
DESCRIPTION:The American Scandinavian Association at Augustana will hold its annual Kräftskiva crayfish party. The menu includes traditional crayfish\, Swedish meatballs\, shrimp\, new potatoes\, corn on the cob\, fresh fruit\, apple cabbage salad\, cookies\, coffee\, tea and bottled water.\n\nDoor prizes will be drawn for those in attendance\, and 2024 Sweden and Norway calendars will be available for purchase for $12.&nbsp\;See flyer.\n\nTo register\, contact Sandy Kramer.\n
URL;VALUE=URI:https://augustana.edu/about-us/events/2023/american-scandinavian-association-kraftskiva-crayfish-party
SUMMARY:American Scandinavian Association: Kräftskiva crayfish party
DTSTART:20230812T220000Z
END:VEVENT
END:VCALENDAR
