BEGIN:VCALENDAR
VERSION:2.0
PRODID:-//hacksw/handcal//NONSGML v1.0//EN
CALSCALE:GREGORIAN
BEGIN:VEVENT
DTEND:20240217T150000Z
UID: 69e7d0665b3ea
DTSTAMP:20260421T143046Z
LOCATION:Carver P.E. Center
DESCRIPTION:Academic Scholarship Days help prospective students and their families learn more about what Augustana College has to offer.\n\nParticipate in an Academic Scholarship Day and you could achieve an extra $1\,000 grant a year for four years. More than 30 academic departments from 90 majors and other programs will be your hosts.\n\n→ Sign up\n
URL;VALUE=URI:https://augustana.edu/about-us/events/2024/academic-scholarship-day-feb
SUMMARY:Academic Scholarship Day
DTSTART:20240217T150000Z
END:VEVENT
END:VCALENDAR
