BEGIN:VCALENDAR
VERSION:2.0
PRODID:-//hacksw/handcal//NONSGML v1.0//EN
CALSCALE:GREGORIAN
BEGIN:VEVENT
DTEND:20240103T223000Z
UID: 69eb0a7091518
DTSTAMP:20260424T011512Z
LOCATION:Carriage House (Dance Studio)
DESCRIPTION:Campus Recreation will host an in-person yoga session on Wednesdays from 4:30-5:30 p.m.\n\nClasses are first come\, first served\, with a maximum of 20 slots.\n
URL;VALUE=URI:https://augustana.edu/about-us/events/2024/person-yoga-session-1
SUMMARY:In-person yoga session
DTSTART:20240103T223000Z
END:VEVENT
END:VCALENDAR
