BEGIN:VCALENDAR
VERSION:2.0
PRODID:-//hacksw/handcal//NONSGML v1.0//EN
CALSCALE:GREGORIAN
BEGIN:VEVENT
DTEND:20240124T221500Z
UID: 69eb14645c9eb
DTSTAMP:20260424T015740Z
LOCATION:Carriage House (Dance Studio)
DESCRIPTION:Campus Recreation will host an in-person yoga session on Wednesdays from 4:15-5 p.m.\n\nClasses are first come\, first served\, with a maximum of 20 slots.\n
URL;VALUE=URI:https://augustana.edu/about-us/events/2024/person-yoga-session-0
SUMMARY:In-person yoga session
DTSTART:20240124T221500Z
END:VEVENT
END:VCALENDAR
