BEGIN:VCALENDAR
VERSION:2.0
PRODID:-//hacksw/handcal//NONSGML v1.0//EN
CALSCALE:GREGORIAN
BEGIN:VEVENT
DTEND:20231215T220000Z
UID: 69eb0a6f92013
DTSTAMP:20260424T011511Z
LOCATION:
DESCRIPTION:Campus Recreation will host an online yoga session on Fridays from 4-5 p.m.\n
URL;VALUE=URI:https://augustana.edu/about-us/events/2023/online-yoga-class-14
SUMMARY:Online yoga class
DTSTART:20231215T220000Z
END:VEVENT
END:VCALENDAR
