BEGIN:VCALENDAR
VERSION:2.0
PRODID:-//hacksw/handcal//NONSGML v1.0//EN
CALSCALE:GREGORIAN
BEGIN:VEVENT
DTEND:20240119T180000Z
UID: 69eb0aa7c0773
DTSTAMP:20260424T011607Z
LOCATION:
DESCRIPTION:Campus Recreation will host an online yoga session on Fridays from 12-1 p.m.\n
URL;VALUE=URI:https://augustana.edu/about-us/events/2024/online-yoga-class-3
SUMMARY:Online yoga class
DTSTART:20240119T180000Z
END:VEVENT
END:VCALENDAR
