BEGIN:VCALENDAR
VERSION:2.0
PRODID:-//hacksw/handcal//NONSGML v1.0//EN
CALSCALE:GREGORIAN
BEGIN:VEVENT
DTEND:20231207T013000Z
UID: 69eb0aa7ed636
DTSTAMP:20260424T011607Z
LOCATION:Augustana Lutheran Church
DESCRIPTION:A Christmas service with a candlelight procession to sing carols in the Jenny Lind Chapel\, with guest preacher Dr. Alex Jones\, professor of communication sciences and disorders.&nbsp\;Cookies and cocoa to follow in the church basement.\n\nBus pick-up for students is available at the Gerber Center top floor entrance at 6:30 p.m. Service begins promptly at 7:30 p.m. The bus will return to Augustana no later than 10 p.m.\n\nAttendees are advised to dress warm for the weather\, as the candle procession is about a 5-minute walk to the chapel.\n\nSponsored by Campus Ministries.\n
URL;VALUE=URI:https://augustana.edu/about-us/events/2023/joy-christmas
SUMMARY:Joy of Christmas
DTSTART:20231207T013000Z
END:VEVENT
END:VCALENDAR
