BEGIN:VCALENDAR
VERSION:2.0
PRODID:-//hacksw/handcal//NONSGML v1.0//EN
CALSCALE:GREGORIAN
BEGIN:VEVENT
DTEND:20231214T023100Z
UID: 69eb0a703063d
DTSTAMP:20260424T011512Z
LOCATION:Ascension Chapel
DESCRIPTION:This half-hour music and prayer service with communion is led by Pastor Melinda Pupillo and students.\n
URL;VALUE=URI:https://augustana.edu/about-us/events/2023/wednesday-831-prayers-around-manger
SUMMARY:Wednesday 8:31: Prayers Around the Manger
DTSTART:20231214T023100Z
END:VEVENT
END:VCALENDAR
