BEGIN:VCALENDAR
VERSION:2.0
PRODID:-//hacksw/handcal//NONSGML v1.0//EN
CALSCALE:GREGORIAN
BEGIN:VEVENT
DTEND:20240118T023100Z
UID: 69eb0ab82fbc4
DTSTAMP:20260424T011624Z
LOCATION:Ascension Chapel
DESCRIPTION:This half-hour music and prayer service with communion is led by Pastor Melinda Pupillo and students.\n
URL;VALUE=URI:https://augustana.edu/about-us/events/2024/wednesday-831-1
SUMMARY:Wednesday 8:31
DTSTART:20240118T023100Z
END:VEVENT
END:VCALENDAR
