BEGIN:VCALENDAR
VERSION:2.0
PRODID:-//hacksw/handcal//NONSGML v1.0//EN
CALSCALE:GREGORIAN
BEGIN:VEVENT
DTEND:20231026T013000Z
UID: 69eb0aa859a80
DTSTAMP:20260424T011608Z
LOCATION:
DESCRIPTION:This special hour-long "Walk the Labyrinth" service is led by Pastor Melinda Pupillo and students.\n
URL;VALUE=URI:https://augustana.edu/about-us/events/2023/wednesday-831-walk-labyrinth
SUMMARY:Wednesday 8:31: Walk the Labyrinth
DTSTART:20231026T013000Z
END:VEVENT
END:VCALENDAR
