BEGIN:VCALENDAR
VERSION:2.0
PRODID:-//hacksw/handcal//NONSGML v1.0//EN
CALSCALE:GREGORIAN
BEGIN:VEVENT
DTEND:20231112T010000Z
UID: 69e7be1e2955b
DTSTAMP:20260421T131246Z
LOCATION:Carver P.E. Center
DESCRIPTION:The Augustana Men's basketball team will play vs. Knox College in the first home game of the season.\n\nComplete schedule\n
URL;VALUE=URI:https://augustana.edu/about-us/events/2023/mens-basketball-vs-knox-college
SUMMARY:Men's Basketball vs. Knox College
DTSTART:20231112T010000Z
END:VEVENT
END:VCALENDAR
