BEGIN:VCALENDAR
VERSION:2.0
PRODID:-//hacksw/handcal//NONSGML v1.0//EN
CALSCALE:GREGORIAN
BEGIN:VEVENT
DTEND:20231216T010000Z
UID: 69ea914dc6793
DTSTAMP:20260423T163821Z
LOCATION:John Deere Planetarium and Carl Gamble Observatory
DESCRIPTION:The John Deere Planetarium will be presenting its annual holiday program Dec. 9-15. The planetarium show will be offered Saturday and Sunday at 2 p.m. and weekday evenings at 7 p.m.\n\nAdmission is free\, but reservations are required.\n
URL;VALUE=URI:https://augustana.edu/about-us/events/2023/season-light-annual-holiday-show-5
SUMMARY:Season of Light annual holiday show
DTSTART:20231216T010000Z
END:VEVENT
END:VCALENDAR
