BEGIN:VCALENDAR
VERSION:2.0
PRODID:-//hacksw/handcal//NONSGML v1.0//EN
CALSCALE:GREGORIAN
BEGIN:VEVENT
DTEND:20231115T180000Z
UID: 69ea8fcc7812d
DTSTAMP:20260423T163156Z
LOCATION:
DESCRIPTION:Find one-of-a-kind items at the student pottery sale on Wednesday\, Nov. 15\, from 12-2 p.m. Cash only.\n
URL;VALUE=URI:https://augustana.edu/about-us/events/2023/student-pottery-sale
SUMMARY:Student pottery sale
DTSTART:20231115T180000Z
END:VEVENT
END:VCALENDAR
