BEGIN:VCALENDAR
VERSION:2.0
PRODID:-//hacksw/handcal//NONSGML v1.0//EN
CALSCALE:GREGORIAN
BEGIN:VEVENT
DTEND:20231129T160000Z
UID: 69ea902ad0b54
DTSTAMP:20260423T163330Z
LOCATION:The Gerber Center for Student Life
DESCRIPTION:Stop by to check out the many career and tuition-funding opportunities available at the Marine Corps\, who will visit Brew by the Slough from 10 a.m.-1 p.m. Sponsored by CORE.\n
URL;VALUE=URI:https://augustana.edu/about-us/events/2023/marine-corps-brew-slough
SUMMARY:Marine Corps at Brew by the Slough
DTSTART:20231129T160000Z
END:VEVENT
END:VCALENDAR
