BEGIN:VCALENDAR
VERSION:2.0
PRODID:-//hacksw/handcal//NONSGML v1.0//EN
CALSCALE:GREGORIAN
BEGIN:VEVENT
DTEND:20240406T190000Z
UID: 69e72f531219b
DTSTAMP:20260421T030331Z
LOCATION:St. Paul Lutheran Church
DESCRIPTION:The Augustana Choir will perform\, directed by Dr. Jon Hurty. The choir is known for its innovative programming\, attention to detail\, and musical excellence.\n\nEstablished in 1931\, the Augustana Choir has been conducted by Dr. Hurty since 1996. The choir has performed at Orchestra Hall in Chicago\, and Alice Tully Hall and Carnegie Hall in New York City\, as well as many major cathedrals and concert venues in Sweden\, Norway\, China\, Germany\, Italy\, Austria\, Japan\, Korea\, Spain\, France and the Czech Republic.\n
URL;VALUE=URI:https://augustana.edu/about-us/events/2024/augustana-choir-concert
SUMMARY:Augustana Choir concert
DTSTART:20240406T190000Z
END:VEVENT
END:VCALENDAR
