BEGIN:VCALENDAR
VERSION:2.0
PRODID:-//hacksw/handcal//NONSGML v1.0//EN
CALSCALE:GREGORIAN
BEGIN:VEVENT
DTEND:20240214T010000Z
UID: 69e6949c7a058
DTSTAMP:20260420T160324Z
LOCATION:Bergendoff Hall of Fine Arts
DESCRIPTION:The brothers of Phi Mu Alpha will host an informal recruitment event for spring. Any male-identifying student with an interest in music and brotherhood is welcome to attend this informal recruitment and meet the current brothers of Phi Mu Alpha - Zeta Beta Chapter. Pizza and drinks will be provided.\n\nPhi Mu Alpha is the oldest and largest secret national fraternity in music\, established for men who have a sincere love of music and brotherhood. No previous study of music is required to join.\n\n→ See flyer\n
URL;VALUE=URI:https://augustana.edu/about-us/events/2024/phi-mu-alpha-informal-pre-pledge-event
SUMMARY:Phi Mu Alpha informal pre-pledge event
DTSTART:20240214T010000Z
END:VEVENT
END:VCALENDAR
