BEGIN:VCALENDAR
VERSION:2.0
PRODID:-//hacksw/handcal//NONSGML v1.0//EN
CALSCALE:GREGORIAN
BEGIN:VEVENT
DTEND:20240428T210000Z
UID: 69ea2c13bf5f0
DTSTAMP:20260423T092627Z
LOCATION:Carlsson Evald Hall
DESCRIPTION:Spend Sunday afternoon with Campus Ministries. Communion and conversation is a little like church\, a little like bible study and a little like hanging out with friends.\n
URL;VALUE=URI:https://augustana.edu/about-us/events/2024/communion-conversation-4
SUMMARY:Communion & Conversation
DTSTART:20240428T210000Z
END:VEVENT
END:VCALENDAR
