BEGIN:VCALENDAR
VERSION:2.0
PRODID:-//hacksw/handcal//NONSGML v1.0//EN
CALSCALE:GREGORIAN
BEGIN:VEVENT
DTEND:20240308T000000Z
UID: 69e84a7dd824a
DTSTAMP:20260421T231141Z
LOCATION:The Gerber Center for Student Life
DESCRIPTION:Organized by Global Ambassadors and OSAPE (Office of Sexual Assault Prevention Education)\, this event will feature arts and crafts\, desserts and drinks.
URL;VALUE=URI:https://augustana.edu/about-us/events/2024/international-womens-day-celebration
SUMMARY:International Women's Day celebration
DTSTART:20240308T000000Z
END:VEVENT
END:VCALENDAR
