BEGIN:VCALENDAR
VERSION:2.0
PRODID:-//hacksw/handcal//NONSGML v1.0//EN
CALSCALE:GREGORIAN
BEGIN:VEVENT
DTEND:20240503T170000Z
UID: 69e9c91dacfe0
DTSTAMP:20260423T022413Z
LOCATION:Viking Plaza
DESCRIPTION:Join us for a campus-wide event to celebrate diversity and community at Augustana. There will be a live DJ\, free food served\, activities\, prizes and a diversity fair.This event\, which is sponsored by Office of Student Inclusion and Diversity\, is part of Diversity Week at Augustana.
URL;VALUE=URI:https://augustana.edu/about-us/events/2024/diversity-celebration
SUMMARY:Diversity Celebration
DTSTART:20240503T170000Z
END:VEVENT
END:VCALENDAR
