BEGIN:VCALENDAR
VERSION:2.0
PRODID:-//hacksw/handcal//NONSGML v1.0//EN
CALSCALE:GREGORIAN
BEGIN:VEVENT
DTEND:20240509T220000Z
UID: 69e9c8f459234
DTSTAMP:20260423T022332Z
LOCATION:Lindberg Stadium 
DESCRIPTION:This photo will be taken in the shape of the Augie "A." It's a tradition for first-year students to gather on the football field to get their class photo taken\, but because of the pandemic\, we weren't able to take the class photo.Please be at the football field by 5 p.m. to get in the shape of the "A." The photo will be taken at 5:30 p.m. sharp.Sponsored by the Office of Alumni Engagement.
URL;VALUE=URI:https://augustana.edu/about-us/events/2024/class-2024-photo
SUMMARY:Class of 2024 "A" photo
DTSTART:20240509T220000Z
END:VEVENT
END:VCALENDAR
