BEGIN:VCALENDAR
VERSION:2.0
PRODID:-//hacksw/handcal//NONSGML v1.0//EN
CALSCALE:GREGORIAN
BEGIN:VEVENT
DTEND:20240520T200000Z
UID: 69e7d9754e5af
DTSTAMP:20260421T150925Z
LOCATION:The Gerber Center for Student Life
DESCRIPTION:Multiple campus offices will collaborate to provide students with a variety of calming activities from 3-4:30 p.m. There will also be numerous giveaways and self-care items to explore.
URL;VALUE=URI:https://augustana.edu/about-us/events/2024/finals-week-self-care-drop
SUMMARY:Finals Week self-care drop-in
DTSTART:20240520T200000Z
END:VEVENT
END:VCALENDAR
