BEGIN:VCALENDAR
VERSION:2.0
PRODID:-//hacksw/handcal//NONSGML v1.0//EN
CALSCALE:GREGORIAN
BEGIN:VEVENT
DTEND:20240511T213000Z
UID: 69e7d95ce8939
DTSTAMP:20260421T150900Z
LOCATION:Lindberg Stadium 
DESCRIPTION:Sloughfest is a music festival featuring select music artists\, local food vendors\, inflatables and yard games\, and photo opportunities. Visit the Sloughfest Linktree or Instagram for more updates and information!Sloughfest will be on the football field from 4:30-11 p.m. Free food is first come\, first served. You must show your Augie ID at the door. One guest per Augie ID. Bags will be checked at the door. Water bottles must be empty prior to entry. Official Sloughfest water bottles are the only bottles allowed.Contact Sloughfest directors Isabella Olalde and Jonathan Knuth with questions.
URL;VALUE=URI:https://augustana.edu/about-us/events/2024/sloughfest-2024
SUMMARY:Sloughfest 2024
DTSTART:20240511T213000Z
END:VEVENT
END:VCALENDAR
