BEGIN:VCALENDAR
VERSION:2.0
PRODID:-//hacksw/handcal//NONSGML v1.0//EN
CALSCALE:GREGORIAN
BEGIN:VEVENT
DTEND:20240531T223000Z
UID: 69ebdb6ea3c39
DTSTAMP:20260424T160654Z
LOCATION:The Gerber Center for Student Life
DESCRIPTION:The American Scandinavian Association will host its annual meeting and dinner with a program entitled "Carl von Linné: Genius of Uppsala\," presented by Janet Moline\, retired environmental science educator.The event starts at 5:30 p.m. with a period of social time and punch followed by a buffet dinner at 6 p.m.Those interested in attending should make reservations no later than Friday\, May 24. &nbsp\;Please mail check payable to ASA to Loryann Eis\, 2037 15th St.\, Moline\, Ill.\, 61265.Access the Gerber Center from 7th Avenue and 34th Street. Park in Faculty/Staff lot J (parallel to 34th St.).Program descriptionAcross the world are common names for living things in the language of that country. Linnaeus devised a system for living organisms to have a scientific name with a genus and species that are known world-wide. How did Carl von Linné become Linnaeus?
URL;VALUE=URI:https://augustana.edu/about-us/events/2024/american-scandinavian-association-smorgasbord
SUMMARY:American Scandinavian Association smörgåsbord
DTSTART:20240531T223000Z
END:VEVENT
END:VCALENDAR
