BEGIN:VCALENDAR
VERSION:2.0
PRODID:-//hacksw/handcal//NONSGML v1.0//EN
CALSCALE:GREGORIAN
BEGIN:VEVENT
DTEND:20240916T180000Z
UID: 69e6bb8c84507
DTSTAMP:20260420T184932Z
LOCATION:
DESCRIPTION:The Chicago Area Accounting and Finance Career Fair '24 is an opportunity for students to meet with accounting firms\, government agencies\, and other employers seeking full-time and internships. This full-day fair\, which lasts from 1-4 p.m.\, is a unique opportunity for you to connect and share your skills and experience in person with hiring representatives.
URL;VALUE=URI:https://augustana.edu/about-us/events/2024/chicago-area-accounting-and-finance-career-fair-24
SUMMARY:Chicago Area Accounting and Finance Career Fair '24
DTSTART:20240916T180000Z
END:VEVENT
END:VCALENDAR
