BEGIN:VCALENDAR
VERSION:2.0
PRODID:-//hacksw/handcal//NONSGML v1.0//EN
CALSCALE:GREGORIAN
BEGIN:VEVENT
DTEND:20240808T140000Z
UID: 69ecc5aba378a
DTSTAMP:20260425T084619Z
LOCATION:Riverbend Commons
DESCRIPTION:Dr. Reuben Heine and Dr. Norm Moline will present "Our River Landscape Mosaic." In their presentation\, they'll address why the Mississippi flows east to west in this region and review how humans have changed river processes.
URL;VALUE=URI:https://augustana.edu/about-us/events/2024/channel-cat-talks-our-river-landscape-mosaic-thurs
SUMMARY:Channel Cat Talks: 'Our River Landscape Mosaic'
DTSTART:20240808T140000Z
END:VEVENT
END:VCALENDAR
