BEGIN:VCALENDAR
VERSION:2.0
PRODID:-//hacksw/handcal//NONSGML v1.0//EN
CALSCALE:GREGORIAN
BEGIN:VEVENT
DTEND:20240727T140000Z
UID: 69ed2b571d159
DTSTAMP:20260425T160007Z
LOCATION:
DESCRIPTION:The Augustana Choir will hold a reunion event in Naperville\, Ill.\, July 26-27. You're invited to join alumni and friends of the Augustana Choir in celebrating the ensemble's storied history and bright future.
URL;VALUE=URI:https://augustana.edu/about-us/events/2024/augustana-choir-reunion-0
SUMMARY:Augustana Choir Reunion
DTSTART:20240727T140000Z
END:VEVENT
END:VCALENDAR
