BEGIN:VCALENDAR
VERSION:2.0
PRODID:-//hacksw/handcal//NONSGML v1.0//EN
CALSCALE:GREGORIAN
BEGIN:VEVENT
DTEND:20241031T000000Z
UID: 69e5194a81cb5
DTSTAMP:20260419T130458Z
LOCATION:Thorson-Lucken Field
DESCRIPTION:The Augustana women's soccer team plays Elmhurst.→ See the full 2024 women's soccer schedule
URL;VALUE=URI:https://augustana.edu/about-us/events/2024/womens-soccer-vs-elmhurst
SUMMARY:Women's soccer vs. Elmhurst
DTSTART:20241031T000000Z
END:VEVENT
END:VCALENDAR
