BEGIN:VCALENDAR
VERSION:2.0
PRODID:-//hacksw/handcal//NONSGML v1.0//EN
CALSCALE:GREGORIAN
BEGIN:VEVENT
DTEND:20241205T010000Z
UID: 69e51983011c0
DTSTAMP:20260419T130555Z
LOCATION:Carver P.E. Center
DESCRIPTION:The Augustana women's basketball team plays Elmhurst.→ See the full 2024-25 women's basketball schedule
URL;VALUE=URI:https://augustana.edu/about-us/events/2024/womens-basketball-vs-elmhurst
SUMMARY:Women's basketball vs. Elmhurst
DTSTART:20241205T010000Z
END:VEVENT
END:VCALENDAR
