BEGIN:VCALENDAR
VERSION:2.0
PRODID:-//hacksw/handcal//NONSGML v1.0//EN
CALSCALE:GREGORIAN
BEGIN:VEVENT
DTEND:20241214T200000Z
UID: 69e519ad7c57b
DTSTAMP:20260419T130637Z
LOCATION:Carver P.E. Center
DESCRIPTION:The Augustana women's basketball team plays Carthage.→ See the full 2024-25 women's basketball schedule
URL;VALUE=URI:https://augustana.edu/about-us/events/2024/womens-basketball-vs-carthage
SUMMARY:Women's basketball vs. Carthage
DTSTART:20241214T200000Z
END:VEVENT
END:VCALENDAR
