BEGIN:VCALENDAR
VERSION:2.0
PRODID:-//hacksw/handcal//NONSGML v1.0//EN
CALSCALE:GREGORIAN
BEGIN:VEVENT
DTEND:20241218T010000Z
UID: 69e519783b9a6
DTSTAMP:20260419T130544Z
LOCATION:Carver P.E. Center
DESCRIPTION:The Augustana women's basketball team plays Dubuque.→ See the full 2024-25 women's basketball schedule
URL;VALUE=URI:https://augustana.edu/about-us/events/2024/womens-basketball-vs-dubuque
SUMMARY:Women's basketball vs. Dubuque
DTSTART:20241218T010000Z
END:VEVENT
END:VCALENDAR
