BEGIN:VCALENDAR
VERSION:2.0
PRODID:-//hacksw/handcal//NONSGML v1.0//EN
CALSCALE:GREGORIAN
BEGIN:VEVENT
DTEND:20241109T020000Z
UID: 69ea5cd967a78
DTSTAMP:20260423T125433Z
LOCATION:Wallenberg Hall\, Denkmann Memorial Building
DESCRIPTION:Diwali\, known as Tihar or Deepawali in Nepal\, is a Hindu festival celebrated in Nepal and India. For our Diwali event\, we will have a Diwali presentation to educate our audience on why and how Diwali is celebrated.The event\, which runs from 8-10:30 p.m.\, will include snacks from India and Nepal and a raffle with the winner getting South Asian dry snacks. There will also be dance performances and a Rangoli template coloring session.
URL;VALUE=URI:https://augustana.edu/about-us/events/2024/diwali
SUMMARY:Diwali
DTSTART:20241109T020000Z
END:VEVENT
END:VCALENDAR
