BEGIN:VCALENDAR
VERSION:2.0
PRODID:-//hacksw/handcal//NONSGML v1.0//EN
CALSCALE:GREGORIAN
BEGIN:VEVENT
DTEND:20240910T230000Z
UID: 69eac6f7dc020
DTSTAMP:20260423T202719Z
LOCATION:
DESCRIPTION:Augustana College is offering special webinars for students and families to learn about Augustana Possible.This program meets 100% of demonstrated financial need for qualifying newly enrolled students who are high-achieving and from families with lower incomes. Financial eligibility is determined by filing the Free Application for Federal Student Aid (FAFSA).Families are invited to sign up for any of the following dates. All times are CDT.Sept. 4Sept. 10Sept. 25Oct. 2Oct 9Oct. 17Oct. 23
URL;VALUE=URI:https://augustana.edu/about-us/events/2024/augustana-possible-webinar-sept10
SUMMARY:Augustana Possible webinar
DTSTART:20240910T230000Z
END:VEVENT
END:VCALENDAR
