BEGIN:VCALENDAR
VERSION:2.0
PRODID:-//hacksw/handcal//NONSGML v1.0//EN
CALSCALE:GREGORIAN
BEGIN:VEVENT
DTEND:20241009T223000Z
UID: 69e610140c1e4
DTSTAMP:20260420T063756Z
LOCATION:Hanson Hall of Science
DESCRIPTION:Dr. Erik Mothersbaugh '08\, Dean of Student Affairs at Illinois College of Optometry\, will visit campus from 5:30-7 p.m. to talk with students interested in optometry careers.Discussion will include an overview of optometry school and how to be a competitive applicant. The field of optometry is growing\, and several new U.S. optometry schools have opened in the past few years.Students must RSVP food restrictions/preferences for dinner after the presentation by noon on Monday\, Oct. 7.
URL;VALUE=URI:https://augustana.edu/about-us/events/2024/optometry-careers-informational-session-and-dinner
SUMMARY:Optometry careers informational session and dinner
DTSTART:20241009T223000Z
END:VEVENT
END:VCALENDAR
