BEGIN:VCALENDAR
VERSION:2.0
PRODID:-//hacksw/handcal//NONSGML v1.0//EN
CALSCALE:GREGORIAN
BEGIN:VEVENT
DTEND:20240918T220000Z
UID: 69e60e65e12b1
DTSTAMP:20260420T063045Z
LOCATION:Olin Center for Educational Technology
DESCRIPTION:Feeling overwhelmed? You're not alone! The fall semester can be incredibly intense\, and this workshop focuses on essential skills needed to begin the semester strong. Together\, we will talk about time management strategies that will help you become more organized\, less stressed and more balanced. We will also discuss strategies to create a schedule and how use your time as productively as possible. Hope to see you there!
URL;VALUE=URI:https://augustana.edu/about-us/events/2024/time-management-workshop
SUMMARY:Time Management Workshop
DTSTART:20240918T220000Z
END:VEVENT
END:VCALENDAR
