BEGIN:VCALENDAR
VERSION:2.0
PRODID:-//hacksw/handcal//NONSGML v1.0//EN
CALSCALE:GREGORIAN
BEGIN:VEVENT
DTEND:20241003T211500Z
UID: 69e60f8660c48
DTSTAMP:20260420T063534Z
LOCATION:Olin Center for Educational Technology
DESCRIPTION:Have you ever dreamed of living in Japan? The Japan Exchange and Teaching (JET) Program provides employment opportunities for university graduates to teach or work as interpreters/translators in Japan. Come hear from JET alums about their experiences in Japan and working abroad!
URL;VALUE=URI:https://augustana.edu/about-us/events/2024/global-fridays-thursday-jet-program
SUMMARY:Global Fridays (on Thursday!): JET Program
DTSTART:20241003T211500Z
END:VEVENT
END:VCALENDAR
