BEGIN:VCALENDAR
VERSION:2.0
PRODID:-//hacksw/handcal//NONSGML v1.0//EN
CALSCALE:GREGORIAN
BEGIN:VEVENT
DTEND:20240912T223000Z
UID: 69e60f8658dac
DTSTAMP:20260420T063534Z
LOCATION:Hanson Hall of Science
DESCRIPTION:Augustana's Her Campus chapter invites you to join us at our first meeting&nbsp\;on&nbsp\;Thursday\, Sept. 12\, where will be distributing a&nbsp\;welcome gift&nbsp\;to everyone&nbsp\;while supplies last.Her Campus offers an abundance of opportunities that will enhance your resume including but not limited to:writing experience with publishing on a nationally recognized website (see Augie’s published works)creative experience on platforms such as Canva or Photoshop to develop graphics used for marketing that can be added onto your portfolioorganizational event planning experience where everyone works collaboratively to manage events with high attendance ratespublic relations experience with freedom in producing social media content (mainly on Instagram &amp\; TikTok)marketing experience through collaborations with brands such as Prada\, BIC\, OLLY\, Lancôme\, Kiehl's\, and moreWe can make Her Campus an asset for your resume and find ways to connect it to all majors.&nbsp\;Make sure to attend to learn more about who we are and the opportunities we have to offer.&nbsp\;Feel free to invite your friends. All identities are welcome!
URL;VALUE=URI:https://augustana.edu/about-us/events/2024/her-campus-meeting
SUMMARY:Her Campus meeting
DTSTART:20240912T223000Z
END:VEVENT
END:VCALENDAR
