BEGIN:VCALENDAR
VERSION:2.0
PRODID:-//hacksw/handcal//NONSGML v1.0//EN
CALSCALE:GREGORIAN
BEGIN:VEVENT
DTEND:20240920T170000Z
UID: 69e60dadef72e
DTSTAMP:20260420T062741Z
LOCATION:Viking Plaza
DESCRIPTION:
URL;VALUE=URI:https://augustana.edu/about-us/events/2024/campus-field-day
SUMMARY:Campus Field Day
DTSTART:20240920T170000Z
END:VEVENT
END:VCALENDAR
