BEGIN:VCALENDAR
VERSION:2.0
PRODID:-//hacksw/handcal//NONSGML v1.0//EN
CALSCALE:GREGORIAN
BEGIN:VEVENT
DTEND:20240914T150000Z
UID: 69e61014130bf
DTSTAMP:20260420T063756Z
LOCATION:The Gerber Center for Student Life
DESCRIPTION:Campus Ministries student leaders will host an amazing day off campus\, where you'll meet new people and do some exploring. No previous caving experience needed. This will be a fun and easy adventure! Come for the fun of it and/or come to find out how you can get involved.Free transportation and lunch is included.
URL;VALUE=URI:https://augustana.edu/about-us/events/2024/exploring-caves-campus-ministries
SUMMARY:Exploring caves with Campus Ministries
DTSTART:20240914T150000Z
END:VEVENT
END:VCALENDAR
