BEGIN:VCALENDAR
VERSION:2.0
PRODID:-//hacksw/handcal//NONSGML v1.0//EN
CALSCALE:GREGORIAN
BEGIN:VEVENT
DTEND:20241009T220000Z
UID: 69ebe6a13014f
DTSTAMP:20260424T165441Z
LOCATION:Olin Center for Educational Technology
DESCRIPTION:
URL;VALUE=URI:https://augustana.edu/about-us/events/2024/river-readings-tabish-khair
SUMMARY:River Readings: Tabish Khair
DTSTART:20241009T220000Z
END:VEVENT
END:VCALENDAR
