BEGIN:VCALENDAR
VERSION:2.0
PRODID:-//hacksw/handcal//NONSGML v1.0//EN
CALSCALE:GREGORIAN
BEGIN:VEVENT
DTEND:20241010T210000Z
UID: 69ea72c8d7465
DTSTAMP:20260423T142808Z
LOCATION:Olin Center for Educational Technology
DESCRIPTION:Feeling overwhelmed? You're not alone! The fall semester can be incredibly intense\, and this workshop focuses on essential skills needed to begin the semester strong. Together\, we will talk about time management strategies that will help you become more organized\, less stressed\, and more balanced. We will also discuss strategies to create a schedule and how use your time as productively as possible in this hour-long session.→ More workshops
URL;VALUE=URI:https://augustana.edu/about-us/events/2024/workshop-time-management-0
SUMMARY:Workshop: Time management
DTSTART:20241010T210000Z
END:VEVENT
END:VCALENDAR
