BEGIN:VCALENDAR
VERSION:2.0
PRODID:-//hacksw/handcal//NONSGML v1.0//EN
CALSCALE:GREGORIAN
BEGIN:VEVENT
DTEND:20241009T000000Z
UID: 69ea72a11f6f1
DTSTAMP:20260423T142729Z
LOCATION:Olin Center for Educational Technology
DESCRIPTION:
URL;VALUE=URI:https://augustana.edu/about-us/events/2024/counted-out-film-screening
SUMMARY:'Counted Out' film screening
DTSTART:20241009T000000Z
END:VEVENT
END:VCALENDAR
