BEGIN:VCALENDAR
VERSION:2.0
PRODID:-//hacksw/handcal//NONSGML v1.0//EN
CALSCALE:GREGORIAN
BEGIN:VEVENT
DTEND:20241016T180000Z
UID: 69ea728e6a23f
DTSTAMP:20260423T142710Z
LOCATION:Old Main 
DESCRIPTION:The Relgion Department presents Jewish trivia on Oct. 16\, 1-2 p.m.\, hosted by Dr. Wolff. Enjoy games\, snacks and prizes!→ See event flyer
URL;VALUE=URI:https://augustana.edu/about-us/events/2024/jewish-trivia
SUMMARY:Jewish Trivia
DTSTART:20241016T180000Z
END:VEVENT
END:VCALENDAR
